BEGIN:VCALENDAR
VERSION:2.0
PRODID:-//Alsfeldschule - ECPv6.15.20//NONSGML v1.0//EN
CALSCALE:GREGORIAN
METHOD:PUBLISH
X-ORIGINAL-URL:https://alsfeldschule-oberhausen.de
X-WR-CALDESC:Veranstaltungen für Alsfeldschule
REFRESH-INTERVAL;VALUE=DURATION:PT1H
X-Robots-Tag:noindex
X-PUBLISHED-TTL:PT1H
BEGIN:VTIMEZONE
TZID:UTC
BEGIN:STANDARD
TZOFFSETFROM:+0000
TZOFFSETTO:+0000
TZNAME:UTC
DTSTART:20240101T000000
END:STANDARD
END:VTIMEZONE
BEGIN:VEVENT
DTSTART;TZID=UTC:20250904T123000
DTEND;TZID=UTC:20250904T133000
DTSTAMP:20260425T040333
CREATED:20250917T104414Z
LAST-MODIFIED:20250917T104414Z
UID:9932-1756989000-1756992600@alsfeldschule-oberhausen.de
SUMMARY:Kooperationstreffen KTE Löwenzahn
DESCRIPTION:
URL:https://alsfeldschule-oberhausen.de/event/kooperationstreffen-kte-loewenzahn/
END:VEVENT
BEGIN:VEVENT
DTSTART;TZID=UTC:20250904T173000
DTEND;TZID=UTC:20250904T183000
DTSTAMP:20260425T040333
CREATED:20250917T104746Z
LAST-MODIFIED:20250917T104746Z
UID:9935-1757007000-1757010600@alsfeldschule-oberhausen.de
SUMMARY:Fördervereinstreffen (online)
DESCRIPTION:
URL:https://alsfeldschule-oberhausen.de/event/foerdervereinstreffen-online-3/
END:VEVENT
END:VCALENDAR