BEGIN:VCALENDAR
VERSION:2.0
PRODID:-//Alsfeldschule - ECPv6.15.20//NONSGML v1.0//EN
CALSCALE:GREGORIAN
METHOD:PUBLISH
X-WR-CALNAME:Alsfeldschule
X-ORIGINAL-URL:https://alsfeldschule-oberhausen.de
X-WR-CALDESC:Veranstaltungen für Alsfeldschule
REFRESH-INTERVAL;VALUE=DURATION:PT1H
X-Robots-Tag:noindex
X-PUBLISHED-TTL:PT1H
BEGIN:VTIMEZONE
TZID:UTC
BEGIN:STANDARD
TZOFFSETFROM:+0000
TZOFFSETTO:+0000
TZNAME:UTC
DTSTART:20250101T000000
END:STANDARD
END:VTIMEZONE
BEGIN:VEVENT
DTSTART;VALUE=DATE:20260504
DTEND;VALUE=DATE:20260523
DTSTAMP:20260424T194224
CREATED:20260308T093029Z
LAST-MODIFIED:20260308T093029Z
UID:10327-1777852800-1779494399@alsfeldschule-oberhausen.de
SUMMARY:Elternsprechtage (Genaue Termine erhalten Sie von den Klassenlehrer*innen.)
DESCRIPTION:
URL:https://alsfeldschule-oberhausen.de/event/elternsprechtage-genaue-termine-erhalten-sie-von-den-klassenlehrerinnen/
CATEGORIES:Eltern
END:VEVENT
BEGIN:VEVENT
DTSTART;VALUE=DATE:20260515
DTEND;VALUE=DATE:20260516
DTSTAMP:20260424T194224
CREATED:20250216T065026Z
LAST-MODIFIED:20250912T065311Z
UID:9475-1778803200-1778889599@alsfeldschule-oberhausen.de
SUMMARY:Beweglicher Ferientag (Freitag nach Christi Himmelfahrt)
DESCRIPTION:
URL:https://alsfeldschule-oberhausen.de/event/beweglicher-ferientag-freitag-nach-christi-himmelfahrt-3/
CATEGORIES:Beweglicher Ferientag
END:VEVENT
END:VCALENDAR