BEGIN:VCALENDAR
VERSION:2.0
PRODID:-//Alsfeldschule - ECPv6.15.20//NONSGML v1.0//EN
CALSCALE:GREGORIAN
METHOD:PUBLISH
X-WR-CALNAME:Alsfeldschule
X-ORIGINAL-URL:https://alsfeldschule-oberhausen.de
X-WR-CALDESC:Veranstaltungen für Alsfeldschule
REFRESH-INTERVAL;VALUE=DURATION:PT1H
X-Robots-Tag:noindex
X-PUBLISHED-TTL:PT1H
BEGIN:VTIMEZONE
TZID:UTC
BEGIN:STANDARD
TZOFFSETFROM:+0000
TZOFFSETTO:+0000
TZNAME:UTC
DTSTART:20250101T000000
END:STANDARD
END:VTIMEZONE
BEGIN:VEVENT
DTSTART;VALUE=DATE:20260605
DTEND;VALUE=DATE:20260606
DTSTAMP:20260424T205942
CREATED:20250216T065405Z
LAST-MODIFIED:20250912T063028Z
UID:9481-1780617600-1780703999@alsfeldschule-oberhausen.de
SUMMARY:Beweglicher Ferientag (Freitag nach Fronleichnam)
DESCRIPTION:
URL:https://alsfeldschule-oberhausen.de/event/beweglicher-ferientag-freitag-nach-fronleichnam-3/
CATEGORIES:Beweglicher Ferientag
END:VEVENT
END:VCALENDAR