BEGIN:VCALENDAR
VERSION:2.0
PRODID:-//Alsfeldschule - ECPv6.15.20//NONSGML v1.0//EN
CALSCALE:GREGORIAN
METHOD:PUBLISH
X-WR-CALNAME:Alsfeldschule
X-ORIGINAL-URL:https://alsfeldschule-oberhausen.de
X-WR-CALDESC:Veranstaltungen für Alsfeldschule
REFRESH-INTERVAL;VALUE=DURATION:PT1H
X-Robots-Tag:noindex
X-PUBLISHED-TTL:PT1H
BEGIN:VTIMEZONE
TZID:UTC
BEGIN:STANDARD
TZOFFSETFROM:+0000
TZOFFSETTO:+0000
TZNAME:UTC
DTSTART:20250101T000000
END:STANDARD
END:VTIMEZONE
BEGIN:VEVENT
DTSTART;TZID=UTC:20260611T183000
DTEND;TZID=UTC:20260611T193000
DTSTAMP:20260424T210005
CREATED:20250216T065252Z
LAST-MODIFIED:20260308T093751Z
UID:9479-1781202600-1781206200@alsfeldschule-oberhausen.de
SUMMARY:Fördervereinssitzung
DESCRIPTION:
URL:https://alsfeldschule-oberhausen.de/event/musikalischer-nachmittag-2/
CATEGORIES:Förderverein,Veranstaltungen
END:VEVENT
END:VCALENDAR