BEGIN:VCALENDAR
VERSION:2.0
PRODID:-//Alsfeldschule - ECPv6.15.20//NONSGML v1.0//EN
CALSCALE:GREGORIAN
METHOD:PUBLISH
X-ORIGINAL-URL:https://alsfeldschule-oberhausen.de
X-WR-CALDESC:Veranstaltungen für Alsfeldschule
REFRESH-INTERVAL;VALUE=DURATION:PT1H
X-Robots-Tag:noindex
X-PUBLISHED-TTL:PT1H
BEGIN:VTIMEZONE
TZID:UTC
BEGIN:STANDARD
TZOFFSETFROM:+0000
TZOFFSETTO:+0000
TZNAME:UTC
DTSTART:20250101T000000
END:STANDARD
END:VTIMEZONE
BEGIN:VEVENT
DTSTART;VALUE=DATE:20260703
DTEND;VALUE=DATE:20260704
DTSTAMP:20260424T210248
CREATED:20260308T094513Z
LAST-MODIFIED:20260308T094513Z
UID:10345-1783036800-1783123199@alsfeldschule-oberhausen.de
SUMMARY:Sportfest
DESCRIPTION:
URL:https://alsfeldschule-oberhausen.de/event/sportfest-4/
CATEGORIES:Sport
END:VEVENT
END:VCALENDAR