BEGIN:VCALENDAR
VERSION:2.0
PRODID:-//Alsfeldschule - ECPv6.15.20//NONSGML v1.0//EN
CALSCALE:GREGORIAN
METHOD:PUBLISH
X-WR-CALNAME:Alsfeldschule
X-ORIGINAL-URL:https://alsfeldschule-oberhausen.de
X-WR-CALDESC:Veranstaltungen für Alsfeldschule
REFRESH-INTERVAL;VALUE=DURATION:PT1H
X-Robots-Tag:noindex
X-PUBLISHED-TTL:PT1H
BEGIN:VTIMEZONE
TZID:UTC
BEGIN:STANDARD
TZOFFSETFROM:+0000
TZOFFSETTO:+0000
TZNAME:UTC
DTSTART:20250101T000000
END:STANDARD
END:VTIMEZONE
BEGIN:VEVENT
DTSTART;VALUE=DATE:20260715
DTEND;VALUE=DATE:20260716
DTSTAMP:20260424T221447
CREATED:20260308T094709Z
LAST-MODIFIED:20260308T094709Z
UID:10349-1784073600-1784159999@alsfeldschule-oberhausen.de
SUMMARY:Zeugnisausgabe für alle Klassen
DESCRIPTION:
URL:https://alsfeldschule-oberhausen.de/event/zeugnisausgabe-fuer-alle-klassen/
CATEGORIES:Zeugnisse
END:VEVENT
END:VCALENDAR