BEGIN:VCALENDAR
VERSION:2.0
PRODID:-//Alsfeldschule - ECPv6.15.20//NONSGML v1.0//EN
CALSCALE:GREGORIAN
METHOD:PUBLISH
X-ORIGINAL-URL:https://alsfeldschule-oberhausen.de
X-WR-CALDESC:Veranstaltungen für Alsfeldschule
REFRESH-INTERVAL;VALUE=DURATION:PT1H
X-Robots-Tag:noindex
X-PUBLISHED-TTL:PT1H
BEGIN:VTIMEZONE
TZID:UTC
BEGIN:STANDARD
TZOFFSETFROM:+0000
TZOFFSETTO:+0000
TZNAME:UTC
DTSTART:20240101T000000
END:STANDARD
END:VTIMEZONE
BEGIN:VEVENT
DTSTART;TZID=UTC:20260423T183000
DTEND;TZID=UTC:20260423T193000
DTSTAMP:20260424T173427
CREATED:20260308T092546Z
LAST-MODIFIED:20260308T092546Z
UID:10325-1776969000-1776972600@alsfeldschule-oberhausen.de
SUMMARY:Fördervereinssitzung
DESCRIPTION:
URL:https://alsfeldschule-oberhausen.de/event/foerdervereinssitzung-3/
CATEGORIES:Förderverein
END:VEVENT
BEGIN:VEVENT
DTSTART;TZID=UTC:20260422T081500
DTEND;TZID=UTC:20260422T093000
DTSTAMP:20260424T173427
CREATED:20260308T092432Z
LAST-MODIFIED:20260308T092432Z
UID:10323-1776845700-1776850200@alsfeldschule-oberhausen.de
SUMMARY:Schnupperschule
DESCRIPTION:
URL:https://alsfeldschule-oberhausen.de/event/schnupperschule-3/
END:VEVENT
BEGIN:VEVENT
DTSTART;TZID=UTC:20260418T100000
DTEND;TZID=UTC:20260418T130000
DTSTAMP:20260424T173427
CREATED:20260308T094423Z
LAST-MODIFIED:20260308T094423Z
UID:10343-1776506400-1776517200@alsfeldschule-oberhausen.de
SUMMARY:Trödelmarkt an der Alsfeldschule
DESCRIPTION:
URL:https://alsfeldschule-oberhausen.de/event/troedelmarkt-an-der-alsfeldschule/
CATEGORIES:Veranstaltungen
END:VEVENT
BEGIN:VEVENT
DTSTART;TZID=UTC:20260319T183000
DTEND;TZID=UTC:20260319T193000
DTSTAMP:20260424T173427
CREATED:20260308T092133Z
LAST-MODIFIED:20260308T092133Z
UID:10319-1773945000-1773948600@alsfeldschule-oberhausen.de
SUMMARY:Fördervereinssitzung
DESCRIPTION:
URL:https://alsfeldschule-oberhausen.de/event/foerdervereinssitzung-2/
CATEGORIES:Förderverein
END:VEVENT
BEGIN:VEVENT
DTSTART;TZID=UTC:20260319T100000
DTEND;TZID=UTC:20260319T120000
DTSTAMP:20260424T173427
CREATED:20260308T092220Z
LAST-MODIFIED:20260308T092220Z
UID:10321-1773914400-1773921600@alsfeldschule-oberhausen.de
SUMMARY:Känguru-Mathematik-Wettbewerb
DESCRIPTION:
URL:https://alsfeldschule-oberhausen.de/event/kaenguru-mathematik-wettbewerb/
END:VEVENT
BEGIN:VEVENT
DTSTART;VALUE=DATE:20260316
DTEND;VALUE=DATE:20260317
DTSTAMP:20260424T173427
CREATED:20250917T121624Z
LAST-MODIFIED:20250917T121641Z
UID:9990-1773619200-1773705599@alsfeldschule-oberhausen.de
SUMMARY:Zahnprophylaxe
DESCRIPTION:
URL:https://alsfeldschule-oberhausen.de/event/zahnprophylaxe-4/
END:VEVENT
BEGIN:VEVENT
DTSTART;VALUE=DATE:20260216
DTEND;VALUE=DATE:20260217
DTSTAMP:20260424T173427
CREATED:20250912T065219Z
LAST-MODIFIED:20251101T123833Z
UID:9886-1771200000-1771286399@alsfeldschule-oberhausen.de
SUMMARY:Beweglicher Ferientag (Rosenmontag)
DESCRIPTION:
URL:https://alsfeldschule-oberhausen.de/event/beweglicher-ferientag/
CATEGORIES:Beweglicher Ferientag
END:VEVENT
BEGIN:VEVENT
DTSTART;VALUE=DATE:20260205
DTEND;VALUE=DATE:20260206
DTSTAMP:20260424T173427
CREATED:20250917T121504Z
LAST-MODIFIED:20251101T123920Z
UID:9986-1770249600-1770335999@alsfeldschule-oberhausen.de
SUMMARY:Zeugnisausgabe für die Jahrgänge 3 und 4
DESCRIPTION:
URL:https://alsfeldschule-oberhausen.de/event/zeugnisvergabe-jahrgaenge-3-und-4/
CATEGORIES:Zeugnisse
END:VEVENT
BEGIN:VEVENT
DTSTART;VALUE=DATE:20260204
DTEND;VALUE=DATE:20260206
DTSTAMP:20260424T173427
CREATED:20251101T124920Z
LAST-MODIFIED:20251101T124920Z
UID:10119-1770163200-1770335999@alsfeldschule-oberhausen.de
SUMMARY:Klassenzimmertheater "Cool bleiben - fair streiten" (Jahrgang 2)
DESCRIPTION:
URL:https://alsfeldschule-oberhausen.de/event/klassenzimmertheater-cool-bleiben-fair-streiten-jahrgang-2/
CATEGORIES:Projekte
END:VEVENT
BEGIN:VEVENT
DTSTART;VALUE=DATE:20260128
DTEND;VALUE=DATE:20260129
DTSTAMP:20260424T173427
CREATED:20251101T124733Z
LAST-MODIFIED:20251101T124733Z
UID:10117-1769558400-1769644799@alsfeldschule-oberhausen.de
SUMMARY:Ganztägige Fortbildung des Lehrkräfte-Kollegiums und des Teams des Offenen Ganztags
DESCRIPTION:
URL:https://alsfeldschule-oberhausen.de/event/ganztaegige-fortbildung-des-lehrkraefte-kollegiums-und-des-teams-des-offenen-ganztags/
CATEGORIES:Lehrerfortbildung
END:VEVENT
BEGIN:VEVENT
DTSTART;TZID=UTC:20260126T110500
DTEND;TZID=UTC:20260126T115000
DTSTAMP:20260424T173427
CREATED:20250916T155857Z
LAST-MODIFIED:20250916T155857Z
UID:9927-1769425500-1769428200@alsfeldschule-oberhausen.de
SUMMARY:Offenes Vorlesen
DESCRIPTION:
URL:https://alsfeldschule-oberhausen.de/event/offenes-vorlesen-3/
END:VEVENT
BEGIN:VEVENT
DTSTART;VALUE=DATE:20260123
DTEND;VALUE=DATE:20260124
DTSTAMP:20260424T173427
CREATED:20250917T121320Z
LAST-MODIFIED:20250917T121320Z
UID:9982-1769126400-1769212799@alsfeldschule-oberhausen.de
SUMMARY:Englischtag
DESCRIPTION:
URL:https://alsfeldschule-oberhausen.de/event/englischtag/
END:VEVENT
BEGIN:VEVENT
DTSTART;TZID=UTC:20251215T081500
DTEND;TZID=UTC:20251215T090000
DTSTAMP:20260424T173427
CREATED:20241102T083242Z
LAST-MODIFIED:20250912T075151Z
UID:8691-1765786500-1765789200@alsfeldschule-oberhausen.de
SUMMARY:Adventliche Besinnung
DESCRIPTION:
URL:https://alsfeldschule-oberhausen.de/event/adventliche-besinnung-3/
CATEGORIES:Veranstaltungen
END:VEVENT
BEGIN:VEVENT
DTSTART;TZID=UTC:20251208T081500
DTEND;TZID=UTC:20251208T090000
DTSTAMP:20260424T173427
CREATED:20241102T083159Z
LAST-MODIFIED:20250912T075045Z
UID:8689-1765181700-1765184400@alsfeldschule-oberhausen.de
SUMMARY:Adventliche Besinnung
DESCRIPTION:
URL:https://alsfeldschule-oberhausen.de/event/adventliche-besinnung-2/
CATEGORIES:Veranstaltungen
END:VEVENT
BEGIN:VEVENT
DTSTART;TZID=UTC:20251204T183000
DTEND;TZID=UTC:20251204T193000
DTSTAMP:20260424T173427
CREATED:20250912T073705Z
LAST-MODIFIED:20250912T073705Z
UID:9896-1764873000-1764876600@alsfeldschule-oberhausen.de
SUMMARY:Fördervereinstreffen (online)
DESCRIPTION:
URL:https://alsfeldschule-oberhausen.de/event/foerdervereinstreffen-online/
END:VEVENT
BEGIN:VEVENT
DTSTART;TZID=UTC:20251201T081500
DTEND;TZID=UTC:20251201T090000
DTSTAMP:20260424T173427
CREATED:20241102T083009Z
LAST-MODIFIED:20250912T074946Z
UID:8687-1764576900-1764579600@alsfeldschule-oberhausen.de
SUMMARY:Adventliche Besinnung
DESCRIPTION:
URL:https://alsfeldschule-oberhausen.de/event/adventliche-besinnung/
CATEGORIES:Veranstaltungen
END:VEVENT
BEGIN:VEVENT
DTSTART;VALUE=DATE:20251121
DTEND;VALUE=DATE:20251122
DTSTAMP:20260424T173427
CREATED:20220926T110949Z
LAST-MODIFIED:20250912T073312Z
UID:5743-1763683200-1763769599@alsfeldschule-oberhausen.de
SUMMARY:Bundesweiter Vorlesetag
DESCRIPTION:
URL:https://alsfeldschule-oberhausen.de/event/bundesweiter-vorlesetag/
END:VEVENT
BEGIN:VEVENT
DTSTART;TZID=UTC:20251118T190000
DTEND;TZID=UTC:20251118T203000
DTSTAMP:20260424T173427
CREATED:20250917T120709Z
LAST-MODIFIED:20251101T124120Z
UID:9976-1763492400-1763497800@alsfeldschule-oberhausen.de
SUMMARY:Elternabend \,\,Cybergrooming"
DESCRIPTION:
URL:https://alsfeldschule-oberhausen.de/event/elternabend-cybergromming/
CATEGORIES:Projekte
END:VEVENT
BEGIN:VEVENT
DTSTART;VALUE=DATE:20251117
DTEND;VALUE=DATE:20251122
DTSTAMP:20260424T173427
CREATED:20250917T120523Z
LAST-MODIFIED:20251101T124014Z
UID:9973-1763337600-1763769599@alsfeldschule-oberhausen.de
SUMMARY:Projektwoche \,\,Cybergrooming"
DESCRIPTION:
URL:https://alsfeldschule-oberhausen.de/event/projektwoche-cybergromming/
CATEGORIES:Projekte
END:VEVENT
BEGIN:VEVENT
DTSTART;TZID=UTC:20251111T173000
DTEND;TZID=UTC:20251111T210000
DTSTAMP:20260424T173427
CREATED:20250912T073429Z
LAST-MODIFIED:20250912T073443Z
UID:9893-1762882200-1762894800@alsfeldschule-oberhausen.de
SUMMARY:Martinszug
DESCRIPTION:
URL:https://alsfeldschule-oberhausen.de/event/martinsumzug/
END:VEVENT
BEGIN:VEVENT
DTSTART;TZID=UTC:20251103T110500
DTEND;TZID=UTC:20251103T115000
DTSTAMP:20260424T173427
CREATED:20250916T155757Z
LAST-MODIFIED:20250916T155757Z
UID:9925-1762167900-1762170600@alsfeldschule-oberhausen.de
SUMMARY:Offenes Vorlesen
DESCRIPTION:
URL:https://alsfeldschule-oberhausen.de/event/offenes-vorlesen-2/
CATEGORIES:Veranstaltungen
END:VEVENT
BEGIN:VEVENT
DTSTART;VALUE=DATE:20251103
DTEND;VALUE=DATE:20251104
DTSTAMP:20260424T173427
CREATED:20250917T120303Z
LAST-MODIFIED:20250917T120303Z
UID:9969-1762128000-1762214399@alsfeldschule-oberhausen.de
SUMMARY:Lieferstart Schulobstprogramm
DESCRIPTION:
URL:https://alsfeldschule-oberhausen.de/event/lieferstart-schulobstprogramm/
END:VEVENT
BEGIN:VEVENT
DTSTART;TZID=UTC:20251030T183000
DTEND;TZID=UTC:20251030T193000
DTSTAMP:20260424T173427
CREATED:20250912T074523Z
LAST-MODIFIED:20250917T104553Z
UID:9898-1761849000-1761852600@alsfeldschule-oberhausen.de
SUMMARY:Fördervereinstreffen
DESCRIPTION:
URL:https://alsfeldschule-oberhausen.de/event/foerdervereinstreffen-online-2/
END:VEVENT
BEGIN:VEVENT
DTSTART;TZID=UTC:20251028T190000
DTEND;TZID=UTC:20251028T200000
DTSTAMP:20260424T173427
CREATED:20250912T073107Z
LAST-MODIFIED:20250912T073107Z
UID:9891-1761678000-1761681600@alsfeldschule-oberhausen.de
SUMMARY:Infoveranstaltung Übergang 4/5
DESCRIPTION:
URL:https://alsfeldschule-oberhausen.de/event/infoveranstaltung-uebergang-4-5/
END:VEVENT
BEGIN:VEVENT
DTSTART;VALUE=DATE:20251028
DTEND;VALUE=DATE:20251029
DTSTAMP:20260424T173427
CREATED:20250917T120024Z
LAST-MODIFIED:20250917T120024Z
UID:9965-1761609600-1761695999@alsfeldschule-oberhausen.de
SUMMARY:Erste Radfahrübung Jahrgang 4- Teil 1
DESCRIPTION:
URL:https://alsfeldschule-oberhausen.de/event/erste-radfahruebung-jahrgang-4-teil-1/
END:VEVENT
BEGIN:VEVENT
DTSTART;VALUE=DATE:20250929
DTEND;VALUE=DATE:20251003
DTSTAMP:20260424T173427
CREATED:20250917T114706Z
LAST-MODIFIED:20250917T114706Z
UID:9955-1759104000-1759449599@alsfeldschule-oberhausen.de
SUMMARY:Klassenfahrt Jahrgang 4
DESCRIPTION:
URL:https://alsfeldschule-oberhausen.de/event/klassenfahrt-jahrgang-4/
END:VEVENT
BEGIN:VEVENT
DTSTART;VALUE=DATE:20250929
DTEND;VALUE=DATE:20250930
DTSTAMP:20260424T173427
CREATED:20240903T113231Z
LAST-MODIFIED:20250917T114537Z
UID:8483-1759104000-1759190399@alsfeldschule-oberhausen.de
SUMMARY:Schulpflegschaftssitzung
DESCRIPTION:
URL:https://alsfeldschule-oberhausen.de/event/schulpflegschaftssitzung-3/
CATEGORIES:Gremiensitzungen
END:VEVENT
BEGIN:VEVENT
DTSTART;TZID=UTC:20250925T190000
DTEND;TZID=UTC:20250925T203000
DTSTAMP:20260424T173427
CREATED:20250917T114426Z
LAST-MODIFIED:20250917T114426Z
UID:9953-1758826800-1758832200@alsfeldschule-oberhausen.de
SUMMARY:Vollversammlung Förderverein
DESCRIPTION:
URL:https://alsfeldschule-oberhausen.de/event/vollversammlung-foerderverein/
END:VEVENT
BEGIN:VEVENT
DTSTART;TZID=UTC:20250922T121500
DTEND;TZID=UTC:20250926T151500
DTSTAMP:20260424T173427
CREATED:20230820T121721Z
LAST-MODIFIED:20250917T110944Z
UID:7372-1758543300-1758899700@alsfeldschule-oberhausen.de
SUMMARY:Anmeldungen für das Schuljahr 2026-2027
DESCRIPTION:
URL:https://alsfeldschule-oberhausen.de/event/anmeldungen-fuer-das-schuljahr-2024-2025/
CATEGORIES:Veranstaltungen
END:VEVENT
BEGIN:VEVENT
DTSTART;VALUE=DATE:20250908
DTEND;VALUE=DATE:20250913
DTSTAMP:20260424T173427
CREATED:20250917T110047Z
LAST-MODIFIED:20250917T110047Z
UID:9945-1757289600-1757721599@alsfeldschule-oberhausen.de
SUMMARY:Woche der Demokratie
DESCRIPTION:
URL:https://alsfeldschule-oberhausen.de/event/woche-der-demokratie/
END:VEVENT
END:VCALENDAR