BEGIN:VCALENDAR
VERSION:2.0
PRODID:-//Alsfeldschule - ECPv6.15.20//NONSGML v1.0//EN
CALSCALE:GREGORIAN
METHOD:PUBLISH
X-WR-CALNAME:Alsfeldschule
X-ORIGINAL-URL:https://alsfeldschule-oberhausen.de
X-WR-CALDESC:Veranstaltungen für Alsfeldschule
REFRESH-INTERVAL;VALUE=DURATION:PT1H
X-Robots-Tag:noindex
X-PUBLISHED-TTL:PT1H
BEGIN:VTIMEZONE
TZID:UTC
BEGIN:STANDARD
TZOFFSETFROM:+0000
TZOFFSETTO:+0000
TZNAME:UTC
DTSTART:20240101T000000
END:STANDARD
END:VTIMEZONE
BEGIN:VEVENT
DTSTART;TZID=UTC:20250827T081500
DTEND;TZID=UTC:20250827T115000
DTSTAMP:20260425T040011
CREATED:20220606T154004Z
LAST-MODIFIED:20250620T104505Z
UID:4700-1756282500-1756295400@alsfeldschule-oberhausen.de
SUMMARY:Erster Schultag nach den Sommerferien
DESCRIPTION:
URL:https://alsfeldschule-oberhausen.de/event/erster-schultag-nach-den-sommerferien/
CATEGORIES:Termine
END:VEVENT
BEGIN:VEVENT
DTSTART;VALUE=DATE:20250828
DTEND;VALUE=DATE:20250829
DTSTAMP:20260425T040011
CREATED:20220606T154136Z
LAST-MODIFIED:20250620T104620Z
UID:4702-1756339200-1756425599@alsfeldschule-oberhausen.de
SUMMARY:Einschulungstag - 10.00 Uhr: Kirche - 10.40 Uhr: Schule
DESCRIPTION:
URL:https://alsfeldschule-oberhausen.de/event/einschulungstag-9-30-uhr-kirche-10-30-uhr-schule/
END:VEVENT
END:VCALENDAR