BEGIN:VCALENDAR
VERSION:2.0
PRODID:-//Alsfeldschule - ECPv6.15.20//NONSGML v1.0//EN
CALSCALE:GREGORIAN
METHOD:PUBLISH
X-ORIGINAL-URL:https://alsfeldschule-oberhausen.de
X-WR-CALDESC:Veranstaltungen für Alsfeldschule
REFRESH-INTERVAL;VALUE=DURATION:PT1H
X-Robots-Tag:noindex
X-PUBLISHED-TTL:PT1H
BEGIN:VTIMEZONE
TZID:UTC
BEGIN:STANDARD
TZOFFSETFROM:+0000
TZOFFSETTO:+0000
TZNAME:UTC
DTSTART:20250101T000000
END:STANDARD
END:VTIMEZONE
BEGIN:VEVENT
DTSTART;VALUE=DATE:20260123
DTEND;VALUE=DATE:20260124
DTSTAMP:20260424T211641
CREATED:20250917T121320Z
LAST-MODIFIED:20250917T121320Z
UID:9982-1769126400-1769212799@alsfeldschule-oberhausen.de
SUMMARY:Englischtag
DESCRIPTION:
URL:https://alsfeldschule-oberhausen.de/event/englischtag/
END:VEVENT
BEGIN:VEVENT
DTSTART;TZID=UTC:20260126T110500
DTEND;TZID=UTC:20260126T115000
DTSTAMP:20260424T211641
CREATED:20250916T155857Z
LAST-MODIFIED:20250916T155857Z
UID:9927-1769425500-1769428200@alsfeldschule-oberhausen.de
SUMMARY:Offenes Vorlesen
DESCRIPTION:
URL:https://alsfeldschule-oberhausen.de/event/offenes-vorlesen-3/
END:VEVENT
BEGIN:VEVENT
DTSTART;VALUE=DATE:20260128
DTEND;VALUE=DATE:20260129
DTSTAMP:20260424T211641
CREATED:20251101T124733Z
LAST-MODIFIED:20251101T124733Z
UID:10117-1769558400-1769644799@alsfeldschule-oberhausen.de
SUMMARY:Ganztägige Fortbildung des Lehrkräfte-Kollegiums und des Teams des Offenen Ganztags
DESCRIPTION:
URL:https://alsfeldschule-oberhausen.de/event/ganztaegige-fortbildung-des-lehrkraefte-kollegiums-und-des-teams-des-offenen-ganztags/
CATEGORIES:Lehrerfortbildung
END:VEVENT
END:VCALENDAR