BEGIN:VCALENDAR
VERSION:2.0
PRODID:-//Alsfeldschule - ECPv6.15.20//NONSGML v1.0//EN
CALSCALE:GREGORIAN
METHOD:PUBLISH
X-WR-CALNAME:Alsfeldschule
X-ORIGINAL-URL:https://alsfeldschule-oberhausen.de
X-WR-CALDESC:Veranstaltungen für Alsfeldschule
REFRESH-INTERVAL;VALUE=DURATION:PT1H
X-Robots-Tag:noindex
X-PUBLISHED-TTL:PT1H
BEGIN:VTIMEZONE
TZID:UTC
BEGIN:STANDARD
TZOFFSETFROM:+0000
TZOFFSETTO:+0000
TZNAME:UTC
DTSTART:20250101T000000
END:STANDARD
END:VTIMEZONE
BEGIN:VEVENT
DTSTART;VALUE=DATE:20260316
DTEND;VALUE=DATE:20260317
DTSTAMP:20260424T183303
CREATED:20250917T121624Z
LAST-MODIFIED:20250917T121641Z
UID:9990-1773619200-1773705599@alsfeldschule-oberhausen.de
SUMMARY:Zahnprophylaxe
DESCRIPTION:
URL:https://alsfeldschule-oberhausen.de/event/zahnprophylaxe-4/
END:VEVENT
BEGIN:VEVENT
DTSTART;TZID=UTC:20260319T100000
DTEND;TZID=UTC:20260319T120000
DTSTAMP:20260424T183303
CREATED:20260308T092220Z
LAST-MODIFIED:20260308T092220Z
UID:10321-1773914400-1773921600@alsfeldschule-oberhausen.de
SUMMARY:Känguru-Mathematik-Wettbewerb
DESCRIPTION:
URL:https://alsfeldschule-oberhausen.de/event/kaenguru-mathematik-wettbewerb/
END:VEVENT
BEGIN:VEVENT
DTSTART;TZID=UTC:20260319T183000
DTEND;TZID=UTC:20260319T193000
DTSTAMP:20260424T183303
CREATED:20260308T092133Z
LAST-MODIFIED:20260308T092133Z
UID:10319-1773945000-1773948600@alsfeldschule-oberhausen.de
SUMMARY:Fördervereinssitzung
DESCRIPTION:
URL:https://alsfeldschule-oberhausen.de/event/foerdervereinssitzung-2/
CATEGORIES:Förderverein
END:VEVENT
END:VCALENDAR